BEGIN:VCALENDAR
VERSION:2.0
PRODID:-//OCNM - Osny Club Nautique Municipal - ECPv6.15.20//NONSGML v1.0//EN
CALSCALE:GREGORIAN
METHOD:PUBLISH
X-ORIGINAL-URL:https://www.ocnm.fr/blog
X-WR-CALDESC:Évènements pour OCNM - Osny Club Nautique Municipal
REFRESH-INTERVAL;VALUE=DURATION:PT1H
X-Robots-Tag:noindex
X-PUBLISHED-TTL:PT1H
BEGIN:VTIMEZONE
TZID:Europe/Paris
BEGIN:DAYLIGHT
TZOFFSETFROM:+0100
TZOFFSETTO:+0200
TZNAME:CEST
DTSTART:20250330T010000
END:DAYLIGHT
BEGIN:STANDARD
TZOFFSETFROM:+0200
TZOFFSETTO:+0100
TZNAME:CET
DTSTART:20251026T010000
END:STANDARD
BEGIN:DAYLIGHT
TZOFFSETFROM:+0100
TZOFFSETTO:+0200
TZNAME:CEST
DTSTART:20260329T010000
END:DAYLIGHT
BEGIN:STANDARD
TZOFFSETFROM:+0200
TZOFFSETTO:+0100
TZNAME:CET
DTSTART:20261025T010000
END:STANDARD
BEGIN:DAYLIGHT
TZOFFSETFROM:+0100
TZOFFSETTO:+0200
TZNAME:CEST
DTSTART:20270328T010000
END:DAYLIGHT
BEGIN:STANDARD
TZOFFSETFROM:+0200
TZOFFSETTO:+0100
TZNAME:CET
DTSTART:20271031T010000
END:STANDARD
END:VTIMEZONE
BEGIN:VEVENT
DTSTART;TZID=Europe/Paris:20260207T183000
DTEND;TZID=Europe/Paris:20260207T193000
DTSTAMP:20260425T173312
CREATED:20250919T195156Z
LAST-MODIFIED:20250919T195156Z
UID:3434-1770489000-1770492600@www.ocnm.fr
SUMMARY:Fosse plongée
DESCRIPTION:
URL:https://www.ocnm.fr/blog/evenement/fosse-plongee-8/
LOCATION:Fosse de Villeneuve la Garenne\, 119 boulevard Charles de Gaulle\, VILLENEUVE-LA-GARENNE\, 92390\, France
CATEGORIES:Fosse
END:VEVENT
END:VCALENDAR